BEGIN:VCALENDAR
VERSION:2.0
PRODID:-//demosphere.net//NONSGML kigkonsult.se iCalcreator 2.22.1//
METHOD:REQUEST
X-WR-TIMEZONE:Europe/Paris
BEGIN:VEVENT
UID:https://nice.demosphere.net/rv/6860
DTSTAMP:20260425T170000Z
DESCRIPTION:plus d'infos sur : https://nice.demosphere.net/rv/6860
DTSTART:20260425T170000Z
DTEND:20260425T180000Z
GEO:+43.709977;+7.284544
LOCATION:Nice\, \nLes Diables Bleus \n29\, Route de Turin \nNice
SUMMARY:Printemps des nouveaux récits: Exposition de dessins et apéro post 
 atelier avec Benjamin
URL:https://nice.demosphere.net/rv/6860
END:VEVENT
END:VCALENDAR
