BEGIN:VCALENDAR
VERSION:2.0
PRODID:-//demosphere.net//NONSGML kigkonsult.se iCalcreator 2.22.1//
METHOD:REQUEST
X-WR-TIMEZONE:Europe/Paris
BEGIN:VEVENT
UID:https://nice.demosphere.net/rv/6859
DTSTAMP:20260424T170000Z
DESCRIPTION:plus d'infos sur : https://nice.demosphere.net/rv/6859
DTSTART:20260424T170000Z
DTEND:20260424T180000Z
GEO:+43.693504;+7.28181
LOCATION:Nice\, \nCadran solaire \nQuai Rauba Capeu
SUMMARY:Vélorution
URL:https://nice.demosphere.net/rv/6859
END:VEVENT
END:VCALENDAR
