BEGIN:VCALENDAR
VERSION:2.0
PRODID:-//demosphere.net//NONSGML kigkonsult.se iCalcreator 2.22.1//
METHOD:REQUEST
X-WR-TIMEZONE:Europe/Paris
BEGIN:VEVENT
UID:https://nice.demosphere.net/rv/6857
DTSTAMP:20260425T133000Z
DESCRIPTION:plus d'infos sur : https://nice.demosphere.net/rv/6857
DTSTART:20260425T133000Z
DTEND:20260425T143000Z
GEO:+43.700897;+7.2802
LOCATION:Nice\, \nPlace Garibaldi\, 06300 Nice\, France
SUMMARY:🚲 Alleycat féministe et inclusive
URL:https://nice.demosphere.net/rv/6857
END:VEVENT
END:VCALENDAR
