BEGIN:VCALENDAR
VERSION:2.0
PRODID:-//demosphere.net//NONSGML kigkonsult.se iCalcreator 2.22.1//
METHOD:REQUEST
X-WR-TIMEZONE:Europe/Paris
BEGIN:VEVENT
UID:https://nice.demosphere.net/rv/6856
DTSTAMP:20260527T163000Z
DESCRIPTION:plus d'infos sur : https://nice.demosphere.net/rv/6856
DTSTART:20260527T163000Z
DTEND:20260527T173000Z
GEO:+43.620369;+6.972497
LOCATION:Mouans - Sartoux\, \n06370 Mouans-Sartoux
SUMMARY:Le pouvoir des rêves\, de l'imaginaire à l'action collective avec J
 ean-Pierre GOUX
URL:https://nice.demosphere.net/rv/6856
END:VEVENT
END:VCALENDAR
