BEGIN:VCALENDAR
VERSION:2.0
PRODID:-//demosphere.net//NONSGML kigkonsult.se iCalcreator 2.22.1//
METHOD:REQUEST
X-WR-TIMEZONE:Europe/Paris
BEGIN:VEVENT
UID:https://nice.demosphere.net/rv/6855
DTSTAMP:20260426T063000Z
DESCRIPTION:plus d'infos sur : https://nice.demosphere.net/rv/6855
DTSTART:20260426T063000Z
DTEND:20260426T073000Z
GEO:+43.709977;+7.284544
LOCATION:Nice\, \nLes Diables Bleus \n29\, Route de Turin \nNice
SUMMARY:Formation à la désobéissance civile non-violente avec XR et ANV-COP
 21
URL:https://nice.demosphere.net/rv/6855
END:VEVENT
END:VCALENDAR
