BEGIN:VCALENDAR
VERSION:2.0
PRODID:-//demosphere.net//NONSGML kigkonsult.se iCalcreator 2.22.1//
METHOD:REQUEST
X-WR-TIMEZONE:Europe/Paris
BEGIN:VEVENT
UID:https://nice.demosphere.net/rv/6854
DTSTAMP:20260606T013300Z
DESCRIPTION:plus d'infos sur : https://nice.demosphere.net/rv/6854
DTSTART;VALUE=DATE:20260606
LOCATION:St jeannet\, \nPlace sur le Four St Jeannet
SUMMARY:Festival Autres regads sur le Monde - 3ème édition
URL:https://nice.demosphere.net/rv/6854
END:VEVENT
END:VCALENDAR
