BEGIN:VCALENDAR
VERSION:2.0
PRODID:-//demosphere.net//NONSGML kigkonsult.se iCalcreator 2.22.1//
METHOD:REQUEST
X-WR-TIMEZONE:Europe/Paris
BEGIN:VEVENT
UID:https://nice.demosphere.net/rv/6852
DTSTAMP:20260425T070000Z
DESCRIPTION:plus d'infos sur : https://nice.demosphere.net/rv/6852
DTSTART:20260425T070000Z
DTEND:20260425T080000Z
GEO:+43.729567;+7.271583
LOCATION:Nice\, \nCLAJ \n26 Avenue Scudéri\, 06000 Nice \n06000 Nice
SUMMARY:Journée de Solidarité avec la Palestine au CLAJ
URL:https://nice.demosphere.net/rv/6852
END:VEVENT
END:VCALENDAR
